BEGIN:VCALENDAR
VERSION:2.0
PRODID:-//Town of Merrimac - ECPv5.16.4//NONSGML v1.0//EN
CALSCALE:GREGORIAN
METHOD:PUBLISH
X-ORIGINAL-URL:https://townofmerrimac.net
X-WR-CALDESC:Events for Town of Merrimac
REFRESH-INTERVAL;VALUE=DURATION:PT1H
X-Robots-Tag:noindex
X-PUBLISHED-TTL:PT1H
BEGIN:VTIMEZONE
TZID:America/Chicago
BEGIN:DAYLIGHT
TZOFFSETFROM:-0600
TZOFFSETTO:-0500
TZNAME:CDT
DTSTART:20230312T080000
END:DAYLIGHT
BEGIN:STANDARD
TZOFFSETFROM:-0500
TZOFFSETTO:-0600
TZNAME:CST
DTSTART:20231105T070000
END:STANDARD
END:VTIMEZONE
BEGIN:VEVENT
DTSTART;TZID=America/Chicago:20230330T170000
DTEND;TZID=America/Chicago:20230330T170000
DTSTAMP:20260423T095341
CREATED:20230322T131217Z
LAST-MODIFIED:20230322T131427Z
UID:593-1680195600-1680195600@townofmerrimac.net
SUMMARY:Deadline to Request an  Absentee Ballot By Mail
DESCRIPTION:Thursday\, March 30\, 2023\, 05:00\n \n\n\n \n\n\n\nDeadline (5:00 p.m.) for regular and overseas electors to request absentee ballots by mail online\, email or fax for the Spring Election \n6.86(1)(b) – 5th day before the election
URL:https://townofmerrimac.net/event/last-day-to-request-an-absentee-ballot-2/
CATEGORIES:Elections
END:VEVENT
BEGIN:VEVENT
DTSTART;TZID=America/Chicago:20230331T170000
DTEND;TZID=America/Chicago:20230331T170000
DTSTAMP:20260423T095341
CREATED:20230322T131353Z
LAST-MODIFIED:20230322T131353Z
UID:594-1680282000-1680282000@townofmerrimac.net
SUMMARY:Deadline to Register to Vote in the Clerk's Office
DESCRIPTION:Deadline (5:00 p.m.) for electors to register to vote in the municipal clerk’s office or other designated location(s). \n6.29(2)(a) – Friday preceding the election
URL:https://townofmerrimac.net/event/deadline-to-register-to-vote-in-the-clerks-office/
CATEGORIES:Elections
END:VEVENT
END:VCALENDAR